BEGIN:VCALENDAR
VERSION:2.0
PRODID:-//Sandipani - ECPv6.15.17.1//NONSGML v1.0//EN
CALSCALE:GREGORIAN
METHOD:PUBLISH
X-ORIGINAL-URL:https://sandipani.org
X-WR-CALDESC:Events for Sandipani
REFRESH-INTERVAL;VALUE=DURATION:PT1H
X-Robots-Tag:noindex
X-PUBLISHED-TTL:PT1H
BEGIN:VTIMEZONE
TZID:Europe/London
BEGIN:DAYLIGHT
TZOFFSETFROM:+0000
TZOFFSETTO:+0100
TZNAME:BST
DTSTART:20150329T010000
END:DAYLIGHT
BEGIN:STANDARD
TZOFFSETFROM:+0100
TZOFFSETTO:+0000
TZNAME:GMT
DTSTART:20151025T010000
END:STANDARD
BEGIN:DAYLIGHT
TZOFFSETFROM:+0000
TZOFFSETTO:+0100
TZNAME:BST
DTSTART:20160327T010000
END:DAYLIGHT
BEGIN:STANDARD
TZOFFSETFROM:+0100
TZOFFSETTO:+0000
TZNAME:GMT
DTSTART:20161030T010000
END:STANDARD
BEGIN:DAYLIGHT
TZOFFSETFROM:+0000
TZOFFSETTO:+0100
TZNAME:BST
DTSTART:20170326T010000
END:DAYLIGHT
BEGIN:STANDARD
TZOFFSETFROM:+0100
TZOFFSETTO:+0000
TZNAME:GMT
DTSTART:20171029T010000
END:STANDARD
END:VTIMEZONE
BEGIN:VEVENT
DTSTART;VALUE=DATE:20161016
DTEND;VALUE=DATE:20161024
DTSTAMP:20260423T210536
CREATED:20180708T051519Z
LAST-MODIFIED:20180708T051519Z
UID:10000009-1476576000-1477267199@sandipani.org
SUMMARY:Shrimad Bhagavat Katha
DESCRIPTION:Time: 9:30am – 1:30pm
URL:https://sandipani.org/event/shrimad-bhagavat-katha-24/
LOCATION:Beneshvar Dham\, Hari Mandir\, Sabla\, Dungarpur\, Rajasthan\, INDIA
CATEGORIES:Shrimad Bhagavat Katha
GEO:23.841668;73.7146623
X-APPLE-STRUCTURED-LOCATION;VALUE=URI;X-ADDRESS=Beneshvar Dham Hari Mandir Sabla Dungarpur Rajasthan INDIA;X-APPLE-RADIUS=500;X-TITLE=Hari Mandir\, Sabla:geo:73.7146623,23.841668
END:VEVENT
END:VCALENDAR