BEGIN:VCALENDAR
VERSION:2.0
PRODID:-//Sandipani - ECPv6.15.17.1//NONSGML v1.0//EN
CALSCALE:GREGORIAN
METHOD:PUBLISH
X-ORIGINAL-URL:https://sandipani.org
X-WR-CALDESC:Events for Sandipani
REFRESH-INTERVAL;VALUE=DURATION:PT1H
X-Robots-Tag:noindex
X-PUBLISHED-TTL:PT1H
BEGIN:VTIMEZONE
TZID:Europe/London
BEGIN:DAYLIGHT
TZOFFSETFROM:+0000
TZOFFSETTO:+0100
TZNAME:BST
DTSTART:20190331T010000
END:DAYLIGHT
BEGIN:STANDARD
TZOFFSETFROM:+0100
TZOFFSETTO:+0000
TZNAME:GMT
DTSTART:20191027T010000
END:STANDARD
BEGIN:DAYLIGHT
TZOFFSETFROM:+0000
TZOFFSETTO:+0100
TZNAME:BST
DTSTART:20200329T010000
END:DAYLIGHT
BEGIN:STANDARD
TZOFFSETFROM:+0100
TZOFFSETTO:+0000
TZNAME:GMT
DTSTART:20201025T010000
END:STANDARD
BEGIN:DAYLIGHT
TZOFFSETFROM:+0000
TZOFFSETTO:+0100
TZNAME:BST
DTSTART:20210328T010000
END:DAYLIGHT
BEGIN:STANDARD
TZOFFSETFROM:+0100
TZOFFSETTO:+0000
TZNAME:GMT
DTSTART:20211031T010000
END:STANDARD
END:VTIMEZONE
BEGIN:VEVENT
DTSTART;TZID=Europe/London:20201130T080000
DTEND;TZID=Europe/London:20201130T140000
DTSTAMP:20260423T145839
CREATED:20201123T213525Z
LAST-MODIFIED:20201130T120459Z
UID:10000145-1606723200-1606744800@sandipani.org
SUMMARY:Tulsi Vivah
DESCRIPTION:🌿Wedding Invitation🌿 \nAll are invited to the all-auspicious and grand wedding ceremony of Lord Nārāyaṇa with His most beloved Tulsī on ‘Kārtika-Śukla Pūrṇimā’ being officiated and celebrated at ShriHari Mandir at 7.30pm on Nov 30th\, 2020 in the presence of Pujya Bhaishri during the 11-day Viṣṇusahasranāma Lecture series. \n#TulsiVivah\n#PujyaBhaishri\n#ShriHariMandir
URL:https://sandipani.org/event/tulsi-vivah/
LOCATION:https://youtu.be/kfc2HZuSXqA
ORGANIZER;CN="Shri Hari Mandir":MAILTO:contactus@sandipani.org
END:VEVENT
END:VCALENDAR