BEGIN:VCALENDAR
VERSION:2.0
PRODID:-//Sandipani - ECPv6.15.17.1//NONSGML v1.0//EN
CALSCALE:GREGORIAN
METHOD:PUBLISH
X-ORIGINAL-URL:https://sandipani.org
X-WR-CALDESC:Events for Sandipani
REFRESH-INTERVAL;VALUE=DURATION:PT1H
X-Robots-Tag:noindex
X-PUBLISHED-TTL:PT1H
BEGIN:VTIMEZONE
TZID:Europe/London
BEGIN:DAYLIGHT
TZOFFSETFROM:+0000
TZOFFSETTO:+0100
TZNAME:BST
DTSTART:20180325T010000
END:DAYLIGHT
BEGIN:STANDARD
TZOFFSETFROM:+0100
TZOFFSETTO:+0000
TZNAME:GMT
DTSTART:20181028T010000
END:STANDARD
BEGIN:DAYLIGHT
TZOFFSETFROM:+0000
TZOFFSETTO:+0100
TZNAME:BST
DTSTART:20190331T010000
END:DAYLIGHT
BEGIN:STANDARD
TZOFFSETFROM:+0100
TZOFFSETTO:+0000
TZNAME:GMT
DTSTART:20191027T010000
END:STANDARD
BEGIN:DAYLIGHT
TZOFFSETFROM:+0000
TZOFFSETTO:+0100
TZNAME:BST
DTSTART:20200329T010000
END:DAYLIGHT
BEGIN:STANDARD
TZOFFSETFROM:+0100
TZOFFSETTO:+0000
TZNAME:GMT
DTSTART:20201025T010000
END:STANDARD
END:VTIMEZONE
BEGIN:VEVENT
DTSTART;VALUE=DATE:20190509
DTEND;VALUE=DATE:20190517
DTSTAMP:20260424T002910
CREATED:20181224T062254Z
LAST-MODIFIED:20201123T142525Z
UID:10000126-1557360000-1558051199@sandipani.org
SUMMARY:Shrimad Bhagavat Katha
DESCRIPTION:Time: 3pm – 7pm\nFinal day (16 May 2019) time: 9:30am – 1:30pm
URL:https://sandipani.org/event/shrimad-bhagavat-katha-36/
LOCATION:Nanded\, Maharashtra\, Nanded\, Maharashtra\, India
CATEGORIES:Shri Bhagavat Katha
GEO:19.1382514;77.3209555
END:VEVENT
END:VCALENDAR