BEGIN:VCALENDAR
VERSION:2.0
PRODID:-//Sandipani - ECPv6.15.17.1//NONSGML v1.0//EN
CALSCALE:GREGORIAN
METHOD:PUBLISH
X-WR-CALNAME:Sandipani
X-ORIGINAL-URL:https://sandipani.org
X-WR-CALDESC:Events for Sandipani
REFRESH-INTERVAL;VALUE=DURATION:PT1H
X-Robots-Tag:noindex
X-PUBLISHED-TTL:PT1H
BEGIN:VTIMEZONE
TZID:Asia/Kolkata
BEGIN:STANDARD
TZOFFSETFROM:+0530
TZOFFSETTO:+0530
TZNAME:IST
DTSTART:20230101T000000
END:STANDARD
END:VTIMEZONE
BEGIN:VTIMEZONE
TZID:Europe/London
BEGIN:DAYLIGHT
TZOFFSETFROM:+0000
TZOFFSETTO:+0100
TZNAME:BST
DTSTART:20150329T010000
END:DAYLIGHT
BEGIN:STANDARD
TZOFFSETFROM:+0100
TZOFFSETTO:+0000
TZNAME:GMT
DTSTART:20151025T010000
END:STANDARD
BEGIN:DAYLIGHT
TZOFFSETFROM:+0000
TZOFFSETTO:+0100
TZNAME:BST
DTSTART:20160327T010000
END:DAYLIGHT
BEGIN:STANDARD
TZOFFSETFROM:+0100
TZOFFSETTO:+0000
TZNAME:GMT
DTSTART:20161030T010000
END:STANDARD
BEGIN:DAYLIGHT
TZOFFSETFROM:+0000
TZOFFSETTO:+0100
TZNAME:BST
DTSTART:20170326T010000
END:DAYLIGHT
BEGIN:STANDARD
TZOFFSETFROM:+0100
TZOFFSETTO:+0000
TZNAME:GMT
DTSTART:20171029T010000
END:STANDARD
BEGIN:DAYLIGHT
TZOFFSETFROM:+0000
TZOFFSETTO:+0100
TZNAME:BST
DTSTART:20180325T010000
END:DAYLIGHT
BEGIN:STANDARD
TZOFFSETFROM:+0100
TZOFFSETTO:+0000
TZNAME:GMT
DTSTART:20181028T010000
END:STANDARD
BEGIN:DAYLIGHT
TZOFFSETFROM:+0000
TZOFFSETTO:+0100
TZNAME:BST
DTSTART:20190331T010000
END:DAYLIGHT
BEGIN:STANDARD
TZOFFSETFROM:+0100
TZOFFSETTO:+0000
TZNAME:GMT
DTSTART:20191027T010000
END:STANDARD
BEGIN:DAYLIGHT
TZOFFSETFROM:+0000
TZOFFSETTO:+0100
TZNAME:BST
DTSTART:20200329T010000
END:DAYLIGHT
BEGIN:STANDARD
TZOFFSETFROM:+0100
TZOFFSETTO:+0000
TZNAME:GMT
DTSTART:20201025T010000
END:STANDARD
BEGIN:DAYLIGHT
TZOFFSETFROM:+0000
TZOFFSETTO:+0100
TZNAME:BST
DTSTART:20210328T010000
END:DAYLIGHT
BEGIN:STANDARD
TZOFFSETFROM:+0100
TZOFFSETTO:+0000
TZNAME:GMT
DTSTART:20211031T010000
END:STANDARD
BEGIN:DAYLIGHT
TZOFFSETFROM:+0000
TZOFFSETTO:+0100
TZNAME:BST
DTSTART:20220327T010000
END:DAYLIGHT
BEGIN:STANDARD
TZOFFSETFROM:+0100
TZOFFSETTO:+0000
TZNAME:GMT
DTSTART:20221030T010000
END:STANDARD
END:VTIMEZONE
BEGIN:VEVENT
DTSTART;TZID=Asia/Kolkata:20240322T160000
DTEND;TZID=Asia/Kolkata:20240324T123000
DTSTAMP:20260419T202834
CREATED:20240322T092949Z
LAST-MODIFIED:20240322T092949Z
UID:10000296-1711123200-1711283400@sandipani.org
SUMMARY:Sanskriti Chintan Shibir 2024
DESCRIPTION:
URL:https://sandipani.org/event/sanskritichintainshibir24/
LOCATION:Sandipani Vidyaniketan\, Opposite Airport\, Porbandar\, Gujarat\, INDIA
ATTACH;FMTTYPE=image/jpeg:https://sandipani.org/wp-content/uploads/2024/03/SANSKRUTI-CHINTAN-THUMBNAIL.jpeg
GEO:21.6477008;69.6609593
X-APPLE-STRUCTURED-LOCATION;VALUE=URI;X-ADDRESS=Sandipani Vidyaniketan Opposite Airport Porbandar Gujarat INDIA;X-APPLE-RADIUS=500;X-TITLE=Opposite Airport:geo:69.6609593,21.6477008
END:VEVENT
BEGIN:VEVENT
DTSTART;VALUE=DATE:20210213
DTEND;VALUE=DATE:20210222
DTSTAMP:20260419T202834
CREATED:20201123T213719Z
LAST-MODIFIED:20201201T220343Z
UID:10000154-1613174400-1613951999@sandipani.org
SUMMARY:ShriHari Mandir 15th Annual Patotsav & ShriRam Katha
DESCRIPTION:Sandipani Vidyaniketan welcomes our global family to join us online as we celebrate ShriHari Mandir’s 15th Annual Patotsav with a ShriRam Katha by Pujya Bhaishri\, hosted by Sanskruti Foundation U.K
URL:https://sandipani.org/event/shrihari-mandir-15th-annual-patotsav/
LOCATION:Sandipani Vidyaniketan\, Opposite Airport\, Porbandar\, Gujarat\, INDIA
ORGANIZER;CN="Shri Hari Mandir":MAILTO:contactus@sandipani.org
GEO:21.6477008;69.6609593
X-APPLE-STRUCTURED-LOCATION;VALUE=URI;X-ADDRESS=Sandipani Vidyaniketan Opposite Airport Porbandar Gujarat INDIA;X-APPLE-RADIUS=500;X-TITLE=Opposite Airport:geo:69.6609593,21.6477008
END:VEVENT
BEGIN:VEVENT
DTSTART;TZID=Europe/London:20210206T140000
DTEND;TZID=Europe/London:20210206T163000
DTSTAMP:20260419T202834
CREATED:20201227T235636Z
LAST-MODIFIED:20210124T091215Z
UID:10000163-1612620000-1612629000@sandipani.org
SUMMARY:Sundarkand Paath 6/6
DESCRIPTION:Join us and invite all your loved ones to welcome ‘Shri Ram Katha’ (Feb 13-21\, 2021) with devotion… \n🎶 6 Sundarkand Paths conducted by graduates of Sandipani Vidyaniketan. \nTune in for the Blessing Sandesh of Pujya Bhaishri to commence the calendar Year with divine positivity. \nLIVE on ZOOM every weekend from Jan 1st\, 2021 till Feb 6th. You can also join on Facebook: “Sandipani Vidyaniketan” and Youtube: “Sandipani.TV” \n‘Anitya Sansaar me Nitya ek Ram’ \nThis event is co-hosted by: Sanskruti Foundation U.K \n#ShriHariMandirPatotsav #JaiShriRam #PujyaBhaishri
URL:https://sandipani.org/event/sunderkand-paath-6-6/
LOCATION:Sandipani Vidyaniketan\, Opposite Airport\, Porbandar\, Gujarat\, INDIA
GEO:21.6477008;69.6609593
X-APPLE-STRUCTURED-LOCATION;VALUE=URI;X-ADDRESS=Sandipani Vidyaniketan Opposite Airport Porbandar Gujarat INDIA;X-APPLE-RADIUS=500;X-TITLE=Opposite Airport:geo:69.6609593,21.6477008
END:VEVENT
BEGIN:VEVENT
DTSTART;TZID=Europe/London:20210129T090000
DTEND;TZID=Europe/London:20210129T113000
DTSTAMP:20260419T202834
CREATED:20201227T235444Z
LAST-MODIFIED:20210124T090849Z
UID:10000162-1611910800-1611919800@sandipani.org
SUMMARY:Sundarkand Paath 5/6
DESCRIPTION:Join us and invite all your loved ones to welcome ‘Shri Ram Katha’ (Feb 13-21\, 2021) with devotion… \n🎶 6 Sundarkand Paths conducted by graduates of Sandipani Vidyaniketan. \nTune in for the Blessing Sandesh of Pujya Bhaishri to commence the calendar Year with divine positivity. \nLIVE on ZOOM every weekend from Jan 1st\, 2021 till Feb 6th. \nYou can also join on Facebook: “Sandipani Vidyaniketan” and Youtube: “Sandipani.TV” \n‘Anitya Sansaar me Nitya ek Ram’ \nThis event is co-hosted by: Sandipani Pacific Parivar \n#ShriHariMandirPatotsav #JaiShriRam #PujyaBhaishri
URL:https://sandipani.org/event/sundarkand-paath-5-6/
LOCATION:Sandipani Vidyaniketan\, Opposite Airport\, Porbandar\, Gujarat\, INDIA
GEO:21.6477008;69.6609593
X-APPLE-STRUCTURED-LOCATION;VALUE=URI;X-ADDRESS=Sandipani Vidyaniketan Opposite Airport Porbandar Gujarat INDIA;X-APPLE-RADIUS=500;X-TITLE=Opposite Airport:geo:69.6609593,21.6477008
END:VEVENT
BEGIN:VEVENT
DTSTART;TZID=Europe/London:20210116T150000
DTEND;TZID=Europe/London:20210116T173000
DTSTAMP:20260419T202834
CREATED:20201227T234320Z
LAST-MODIFIED:20210109T083617Z
UID:10000160-1610809200-1610818200@sandipani.org
SUMMARY:Sundarkand Paath 3/6
DESCRIPTION:Join us and invite all your loved ones to welcome ‘Shri Ram Katha’ (Feb 13-21\, 2021) with devotion… \n🎶 6 Sundarkand Paths conducted by graduates of Sandipani Vidyaniketan. \nTune in for the Blessing Sandesh of Pujya Bhaishri to commence the calendar Year with divine positivity. \nLIVE on ZOOM every weekend from Jan 1st\, 2021 till Feb 6th. You can also join on Facebook: “Sandipani Vidyaniketan” and Youtube: “Sandipani.TV” \n‘Anitya Sansaar me Nitya ek Ram’ \nThis event is co-hosted by: Sandipani Parivar (Africa) \n#ShriHariMandirPatotsav #JaiShriRam #PujyaBhaishri
URL:https://sandipani.org/event/sundarkand-paath-3-6/
LOCATION:Sandipani Vidyaniketan\, Opposite Airport\, Porbandar\, Gujarat\, INDIA
GEO:21.6477008;69.6609593
X-APPLE-STRUCTURED-LOCATION;VALUE=URI;X-ADDRESS=Sandipani Vidyaniketan Opposite Airport Porbandar Gujarat INDIA;X-APPLE-RADIUS=500;X-TITLE=Opposite Airport:geo:69.6609593,21.6477008
END:VEVENT
BEGIN:VEVENT
DTSTART;TZID=Europe/London:20210109T013000
DTEND;TZID=Europe/London:20210109T043000
DTSTAMP:20260419T202834
CREATED:20201227T233057Z
LAST-MODIFIED:20210109T083139Z
UID:10000159-1610155800-1610166600@sandipani.org
SUMMARY:Sundarkand Paath 2/6
DESCRIPTION:Join us and invite all your loved ones to welcome ‘Shri Ram Katha’ (Feb 13-21\, 2021) with devotion… \n🎶 6 Sundarkand Paths conducted by graduates of Sandipani Vidyaniketan. \nTune in for the Blessing Sandesh of Pujya Bhaishri to commence the calendar Year with divine positivity. \nLIVE on ZOOM every weekend from Jan 1st\, 2021 till Feb 6th. You can also join on Facebook: “Sandipani Vidyaniketan” and Youtube: “Sandipani.TV” \n‘Anitya Sansaar me Nitya ek Ram’ \nThis event is co-hosted by: Sanskruti Foundation USA \n#ShriHariMandirPatotsav #JaiShriRam #PujyaBhaishri
URL:https://sandipani.org/event/sundarkand-paath-2-6/
LOCATION:Sandipani Vidyaniketan\, Opposite Airport\, Porbandar\, Gujarat\, INDIA
GEO:21.6477008;69.6609593
X-APPLE-STRUCTURED-LOCATION;VALUE=URI;X-ADDRESS=Sandipani Vidyaniketan Opposite Airport Porbandar Gujarat INDIA;X-APPLE-RADIUS=500;X-TITLE=Opposite Airport:geo:69.6609593,21.6477008
END:VEVENT
BEGIN:VEVENT
DTSTART;TZID=Europe/London:20210101T093000
DTEND;TZID=Europe/London:20210101T130000
DTSTAMP:20260419T202834
CREATED:20201227T225753Z
LAST-MODIFIED:20201229T121751Z
UID:10000158-1609493400-1609506000@sandipani.org
SUMMARY:Sundarkand Paath 1/6
DESCRIPTION:Join us and invite all your loved ones to welcome ‘Shri Ram Katha’ (Feb 13-21\, 2021) with devotion… \n🎶 6 Sundarkand Paths conducted by graduates of Sandipani Vidyaniketan.  \nTune in for the Blessing Sandesh of Pujya Bhaishri to commence the calendar Year with divine positivity. \nLIVE on ZOOM every weekend from Jan 1st\, 2021 till Feb 6th. You can also join on Facebook: “Sandipani Vidyaniketan” and Youtube: “Sandipani.TV” \n‘Anitya Sansaar me Nitya ek Ram’ \nThis event is co-hosted by: Sanskruti Parivar (Vadodara\, Mumbai) \n#ShriHariMandirPatotsav #JaiShriRam #PujyaBhaishri
URL:https://sandipani.org/event/sundarkand-paath-1-6/
LOCATION:Sandipani Vidyaniketan\, Opposite Airport\, Porbandar\, Gujarat\, INDIA
GEO:21.6477008;69.6609593
X-APPLE-STRUCTURED-LOCATION;VALUE=URI;X-ADDRESS=Sandipani Vidyaniketan Opposite Airport Porbandar Gujarat INDIA;X-APPLE-RADIUS=500;X-TITLE=Opposite Airport:geo:69.6609593,21.6477008
END:VEVENT
BEGIN:VEVENT
DTSTART;VALUE=DATE:20200705
DTEND;VALUE=DATE:20200706
DTSTAMP:20260419T202834
CREATED:20200701T051121Z
LAST-MODIFIED:20200701T051312Z
UID:10000140-1593907200-1593993599@sandipani.org
SUMMARY:View live telecast of Guru Purnima celebrations
DESCRIPTION:This year Sandipani Guru Purnima celebrations will be a live telecast.\nDue to COVID-19\, no public attendance to this event will be permitted.  \nInstead\, we request you to remain safe in your home and view the live telecast of Guru Purnima celebrations online. \n5 July\, 2020 at 9:30am Pujya Bhaishri will commence proceedings by doing pujan of Shri Vyas bhagwan\, Shri Shankracharya bhagwan and Shri Krishna Yogeshwar bhagwan. \nYou can view the live proceedings on www.sandipani.tv\, on this Sandipani website and via our Sandipani Facebook. \n \n 
URL:https://sandipani.org/event/view-live-telecast-of-guru-purnima-celebrations/
LOCATION:Sandipani Vidyaniketan\, Opposite Airport\, Porbandar\, Gujarat\, INDIA
CATEGORIES:Sandipani events
ORGANIZER;CN="Sandipani Vidyaniketan":MAILTO:contactus@sandipani.org
GEO:21.6477008;69.6609593
X-APPLE-STRUCTURED-LOCATION;VALUE=URI;X-ADDRESS=Sandipani Vidyaniketan Opposite Airport Porbandar Gujarat INDIA;X-APPLE-RADIUS=500;X-TITLE=Opposite Airport:geo:69.6609593,21.6477008
END:VEVENT
BEGIN:VEVENT
DTSTART;VALUE=DATE:20190929
DTEND;VALUE=DATE:20191009
DTSTAMP:20260419T202834
CREATED:20190728T051459Z
LAST-MODIFIED:20190902T192402Z
UID:10000131-1569715200-1570579199@sandipani.org
SUMMARY:Navratri celebrations
DESCRIPTION:Navratri Celebrations \n\n29/9/2019 to 7/10/2019\n\n\n9am – 12.30pm – Shri Ram Charit Manas recitation\n\n\n3.30 – 6.30pm – Bapu and Bhagavat Dharma Katha on the occasion of the 150th birth anniversary of Mahatma Gandhi by Pujya Bhaishri\n\n7pm – Aarati at Shri Hari Mandir\, Sandipani Vidyaniketan\, Porbandar\n\n8pm- 9pm – Garba\n\n\nDaily medical camps will be organised.\n\n8/10/2019\n9am to 12.30pm – Sunderkand Yagya.\n\n5.30pm – Divine flag hoisting on Dwarka temple and\nInauguration of Guest house at Sandipani Vidyaniketan\n\nVenue: Sandipani Vidyaniketan\, Porbandar\nContact: +91 82380 12501\, +91 8000017251\n\n\nFor accommodation at Sandipani complete any of the attached forms below and email to bsstpbr@sandipani.org or send to the address listed in the form:\nNavratri Form Hindi\nNavratri Form Gujarati
URL:https://sandipani.org/event/navratri-celebrations/
LOCATION:Sandipani Vidyaniketan\, Opposite Airport\, Porbandar\, Gujarat\, INDIA
CATEGORIES:Sandipani events
ORGANIZER;CN="Sandipani Vidyaniketan":MAILTO:contactus@sandipani.org
GEO:21.6477008;69.6609593
X-APPLE-STRUCTURED-LOCATION;VALUE=URI;X-ADDRESS=Sandipani Vidyaniketan Opposite Airport Porbandar Gujarat INDIA;X-APPLE-RADIUS=500;X-TITLE=Opposite Airport:geo:69.6609593,21.6477008
END:VEVENT
BEGIN:VEVENT
DTSTART;VALUE=DATE:20190715
DTEND;VALUE=DATE:20190717
DTSTAMP:20260419T202834
CREATED:20190625T200134Z
LAST-MODIFIED:20190625T200134Z
UID:10000031-1563148800-1563321599@sandipani.org
SUMMARY:Guru Purnuima Celebrations
DESCRIPTION:Programme Details on 15 July 2019 – 9am to 12.30pm: \nTalks on education- \nIntroductory speech by Shri Partheshbhai Pandya; Special Talk by Dr. Mahendrabhai Chotaliya; Speech on Awards by Shri Gijubhai Bharad and Shri Chaitanyabhai Bhatt. Final Speech by Pujya Bhaishri. \n15 July 2019 – 3.30pm to 6.30pm: \nSandipani Guru Gaurav Award Programme- \nAwards by Pujya Bhaishri to 34 teachers from Gujarat; \nLifetime Achievement Award to Shri Gijubhai Bharad\, Rajkot; Guru Gaurav Award to Shrimati Sonalben and Shri Chaitanyabhai Bhatt\, Dheduki\, Rajkot; Best School Award to Viswamangal Anera\, Himmatnagar. \n16 July 2019 – 8am to 1pm: \nHoisting of divine flags atop Shri Hari Mandir; \nGuru Gita Recitation; \nPujya Bhaishri’s Sandesh; \nGuru Poojan. \nHost of the entire event: Juhiben Alok Avasthi and family\, Lucknow. \nContact Details: ++91 99251 96354/ 80000 17251
URL:https://sandipani.org/event/guru-purnuima-celebrations/
LOCATION:Sandipani Vidyaniketan\, Opposite Airport\, Porbandar\, Gujarat\, INDIA
CATEGORIES:Sandipani events
ATTACH;FMTTYPE=image/jpeg:https://sandipani.org/wp-content/uploads/2018/07/PHOTO-2018-07-12-06-14-28-e1561492605231.jpg
GEO:21.6477008;69.6609593
X-APPLE-STRUCTURED-LOCATION;VALUE=URI;X-ADDRESS=Sandipani Vidyaniketan Opposite Airport Porbandar Gujarat INDIA;X-APPLE-RADIUS=500;X-TITLE=Opposite Airport:geo:69.6609593,21.6477008
END:VEVENT
BEGIN:VEVENT
DTSTART;VALUE=DATE:20190707
DTEND;VALUE=DATE:20190714
DTSTAMP:20260419T202834
CREATED:20190218T202040Z
LAST-MODIFIED:20220805T064613Z
UID:10000022-1562457600-1563062399@sandipani.org
SUMMARY:Sadhana Retreat 2019
DESCRIPTION:Register Now via WhatsApp +44 7869 800920 or email sadhana@sandipani.org \nFor further information\, visit https://sandipani.org/shri-hari-mandir/sadhana-retreat/ \nYou must register to be able to attend this event. Registration for this event is now closed. Please email us if you are interested to participate in 2020.
URL:https://sandipani.org/event/sadhana-retreat-2019/
LOCATION:Sandipani Vidyaniketan\, Opposite Airport\, Porbandar\, Gujarat\, INDIA
CATEGORIES:Sandipani events
ATTACH;FMTTYPE=image/png:https://sandipani.org/wp-content/uploads/2017/09/SĀDHANĀ-registration-open-5.png
GEO:21.6477008;69.6609593
X-APPLE-STRUCTURED-LOCATION;VALUE=URI;X-ADDRESS=Sandipani Vidyaniketan Opposite Airport Porbandar Gujarat INDIA;X-APPLE-RADIUS=500;X-TITLE=Opposite Airport:geo:69.6609593,21.6477008
END:VEVENT
BEGIN:VEVENT
DTSTART;VALUE=DATE:20190318
DTEND;VALUE=DATE:20190321
DTSTAMP:20260419T202834
CREATED:20190303T110256Z
LAST-MODIFIED:20201123T142440Z
UID:10000023-1552867200-1553126399@sandipani.org
SUMMARY:Holi Celebrations
DESCRIPTION:18th March \n4pm-6.30pm: Talk on Patriotism by Shri Bandharan Nishnant and Shri Subramanyam Swami \n9pm: Cultural programme by various poets. \n19th March \n10am-12.30pm: Talk on various scriptures by Shri Raghuvir Chodhury\, Shri Dinkar Joshi\, Shri Ratilal Borisagar and Kajal Oza Vaidha. \n4pm-6.30pm: Talk on Shri Mahatma Gandhiji by Shri Mansukh Salla\, Shri Narottam Palan\, Shri Ajay Umat and Shri Jay Vasavda. \n9pm: Cultural programme on Gujarati folk songs. \n20th March \n8am: Hoisting of the divine flag atop Shri Hari Mandir \n10am: Spiritual talks by Dr. Vijay Pandya\, Shri Gopbandhu Mishra\, Shri Subhash Bhatt and Shri Bhagyesh Jha. \n6.30pm: Play Holi with Shri Hari at Shri Hari Mandir \n7pm: Evening Aarati \n7.50pm: Holika Dahan \n21st March \n8am: Hoisting of the divine flag atop Shri Hari Mandir and and singing of songs. \n9am: Fuldol celebrations (celebrations with flowers) \n12noon: Fuldol Aarati \nHost of Holi Utsav Celebrations: Shri Niranjanbhai Thakkar\, Ahmedabad.
URL:https://sandipani.org/event/holi-celebrations/
LOCATION:Sandipani Vidyaniketan\, Opposite Airport\, Porbandar\, Gujarat\, INDIA
CATEGORIES:Sandipani events
ATTACH;FMTTYPE=image/jpeg:https://sandipani.org/wp-content/uploads/2018/02/Sandipani-Holi-2014.jpg
GEO:21.6477008;69.6609593
X-APPLE-STRUCTURED-LOCATION;VALUE=URI;X-ADDRESS=Sandipani Vidyaniketan Opposite Airport Porbandar Gujarat INDIA;X-APPLE-RADIUS=500;X-TITLE=Opposite Airport:geo:69.6609593,21.6477008
END:VEVENT
BEGIN:VEVENT
DTSTART;VALUE=DATE:20181010
DTEND;VALUE=DATE:20181020
DTSTAMP:20260419T202834
CREATED:20180820T053449Z
LAST-MODIFIED:20180921T025043Z
UID:10000019-1539129600-1539993599@sandipani.org
SUMMARY:Navratri Anushthan
DESCRIPTION:Should you wish to book accommodation at Sandipani during Navratri\, please complete the forms below either in Hindi or Gujarati and post to the address provided on the form or email to bsstpbr@sandipani.org. \nNavratri Form – Hindi -2018 \nNavratri Form-Gujarati – 2018
URL:https://sandipani.org/event/sandipani-navratri-anushthan/
LOCATION:Sandipani Vidyaniketan\, Opposite Airport\, Porbandar\, Gujarat\, INDIA
CATEGORIES:Sandipani events
ATTACH;FMTTYPE=image/jpeg:https://sandipani.org/wp-content/uploads/2018/08/41501578_1420875758044872_6577545657077202944_o.jpg
GEO:21.6477008;69.6609593
X-APPLE-STRUCTURED-LOCATION;VALUE=URI;X-ADDRESS=Sandipani Vidyaniketan Opposite Airport Porbandar Gujarat INDIA;X-APPLE-RADIUS=500;X-TITLE=Opposite Airport:geo:69.6609593,21.6477008
END:VEVENT
BEGIN:VEVENT
DTSTART;VALUE=DATE:20180726
DTEND;VALUE=DATE:20180728
DTSTAMP:20260419T202834
CREATED:20180712T195125Z
LAST-MODIFIED:20180713T104617Z
UID:10000092-1532563200-1532735999@sandipani.org
SUMMARY:Guru Purnima Celebrations
DESCRIPTION:Programme details: \n26th July \n9.30am – 12.30pm – Scholarly lectures Creative Education by Shri Gijubhai Bharad\, Innovative Education by Dr. T. M. Joshi\, Computer & Internet in Education by Shri Navnitbhai Somalal Rathod. \n3.30pm – 6.30pm – Sandipani Guru Gaurav Awards \n9pm – 11pm – Cultural Programmes. \n27th July \n8am – 2pm – Guru Gita Recitation – Discourse by Pujya Bhaishri – Sadguru Poojan \nContacts: +91 992 519 6354\, +91 909 996 6288 \n  
URL:https://sandipani.org/event/guru-purnima-celebrations-2/
LOCATION:Sandipani Vidyaniketan\, Opposite Airport\, Porbandar\, Gujarat\, INDIA
CATEGORIES:Sandipani events
ORGANIZER;CN="Sandipani Vidyaniketan":MAILTO:contactus@sandipani.org
GEO:21.6477008;69.6609593
X-APPLE-STRUCTURED-LOCATION;VALUE=URI;X-ADDRESS=Sandipani Vidyaniketan Opposite Airport Porbandar Gujarat INDIA;X-APPLE-RADIUS=500;X-TITLE=Opposite Airport:geo:69.6609593,21.6477008
END:VEVENT
BEGIN:VEVENT
DTSTART;VALUE=DATE:20170921
DTEND;VALUE=DATE:20171001
DTSTAMP:20260419T202834
CREATED:20180704T150146Z
LAST-MODIFIED:20180704T150146Z
UID:10000034-1505952000-1506815999@sandipani.org
SUMMARY:Navratri Anushthan
DESCRIPTION:
URL:https://sandipani.org/event/navratri-anushthan-3/
LOCATION:Sandipani Vidyaniketan\, Opposite Airport\, Porbandar\, Gujarat\, INDIA
CATEGORIES:Sandipani events
ORGANIZER;CN="Sandipani Vidyaniketan":MAILTO:contactus@sandipani.org
GEO:21.6477008;69.6609593
X-APPLE-STRUCTURED-LOCATION;VALUE=URI;X-ADDRESS=Sandipani Vidyaniketan Opposite Airport Porbandar Gujarat INDIA;X-APPLE-RADIUS=500;X-TITLE=Opposite Airport:geo:69.6609593,21.6477008
END:VEVENT
BEGIN:VEVENT
DTSTART;TZID=Europe/London:20170708T000000
DTEND;TZID=Europe/London:20170709T000000
DTSTAMP:20260419T202834
CREATED:20180628T065458Z
LAST-MODIFIED:20180628T065458Z
UID:10000041-1499472000-1499558400@sandipani.org
SUMMARY:Guru Purnima Celebrations
DESCRIPTION:
URL:https://sandipani.org/event/guru-purnima-celebrations/
LOCATION:Sandipani Vidyaniketan\, Opposite Airport\, Porbandar\, Gujarat\, INDIA
CATEGORIES:Sandipani events
ORGANIZER;CN="Sandipani Vidyaniketan":MAILTO:contactus@sandipani.org
GEO:21.6477008;69.6609593
X-APPLE-STRUCTURED-LOCATION;VALUE=URI;X-ADDRESS=Sandipani Vidyaniketan Opposite Airport Porbandar Gujarat INDIA;X-APPLE-RADIUS=500;X-TITLE=Opposite Airport:geo:69.6609593,21.6477008
END:VEVENT
BEGIN:VEVENT
DTSTART;TZID=Europe/London:20170312T000000
DTEND;TZID=Europe/London:20170313T000000
DTSTAMP:20260419T202834
CREATED:20180626T020334Z
LAST-MODIFIED:20180626T020334Z
UID:10000043-1489276800-1489363200@sandipani.org
SUMMARY:Holi Utsav
DESCRIPTION:Time: 7:00am – 8:30am and 9:00am – 1:00pm
URL:https://sandipani.org/event/holi-utsav-2/
LOCATION:Sandipani Vidyaniketan\, Opposite Airport\, Porbandar\, Gujarat\, INDIA
CATEGORIES:Sandipani events
ORGANIZER;CN="Shri Hari Mandir":MAILTO:contactus@sandipani.org
GEO:21.6477008;69.6609593
X-APPLE-STRUCTURED-LOCATION;VALUE=URI;X-ADDRESS=Sandipani Vidyaniketan Opposite Airport Porbandar Gujarat INDIA;X-APPLE-RADIUS=500;X-TITLE=Opposite Airport:geo:69.6609593,21.6477008
END:VEVENT
BEGIN:VEVENT
DTSTART;VALUE=DATE:20170312
DTEND;VALUE=DATE:20170313
DTSTAMP:20260419T202834
CREATED:20180626T013827Z
LAST-MODIFIED:20180705T054325Z
UID:10000057-1489276800-1489363199@sandipani.org
SUMMARY:Holi Utsav
DESCRIPTION:Time: 7:00am – 8:30am and 9:00am – 1:00pm
URL:https://sandipani.org/event/holi-utsav/
LOCATION:Sandipani Vidyaniketan\, Opposite Airport\, Porbandar\, Gujarat\, INDIA
CATEGORIES:Sandipani events
ORGANIZER;CN="Shri Hari Mandir":MAILTO:contactus@sandipani.org
GEO:21.6477008;69.6609593
X-APPLE-STRUCTURED-LOCATION;VALUE=URI;X-ADDRESS=Sandipani Vidyaniketan Opposite Airport Porbandar Gujarat INDIA;X-APPLE-RADIUS=500;X-TITLE=Opposite Airport:geo:69.6609593,21.6477008
END:VEVENT
BEGIN:VEVENT
DTSTART;VALUE=DATE:20170130
DTEND;VALUE=DATE:20170204
DTSTAMP:20260419T202834
CREATED:20180625T060412Z
LAST-MODIFIED:20180625T060412Z
UID:10000071-1485734400-1486166399@sandipani.org
SUMMARY:Shri Hari Mandir Patotsav
DESCRIPTION:Time:\n9:30am – 12:30pm\n3:30pm – 6:30pm
URL:https://sandipani.org/event/shri-hari-mandir-patotsav/
LOCATION:Sandipani Vidyaniketan\, Opposite Airport\, Porbandar\, Gujarat\, INDIA
CATEGORIES:Sandipani events
GEO:21.6477008;69.6609593
X-APPLE-STRUCTURED-LOCATION;VALUE=URI;X-ADDRESS=Sandipani Vidyaniketan Opposite Airport Porbandar Gujarat INDIA;X-APPLE-RADIUS=500;X-TITLE=Opposite Airport:geo:69.6609593,21.6477008
END:VEVENT
BEGIN:VEVENT
DTSTART;VALUE=DATE:20161030
DTEND;VALUE=DATE:20161101
DTSTAMP:20260419T202834
CREATED:20180708T051519Z
LAST-MODIFIED:20180708T051519Z
UID:10000008-1477785600-1477958399@sandipani.org
SUMMARY:Deepavali and Annakut Celebration
DESCRIPTION:Time: 30 Oct – 4pm – 6pm and 31 Oct – 9am – 1pm
URL:https://sandipani.org/event/deepavali-and-annakut-celebration/
LOCATION:Sandipani Vidyaniketan\, Opposite Airport\, Porbandar\, Gujarat\, INDIA
CATEGORIES:Sandipani events
ORGANIZER;CN="Sandipani Vidyaniketan":MAILTO:contactus@sandipani.org
GEO:21.6477008;69.6609593
X-APPLE-STRUCTURED-LOCATION;VALUE=URI;X-ADDRESS=Sandipani Vidyaniketan Opposite Airport Porbandar Gujarat INDIA;X-APPLE-RADIUS=500;X-TITLE=Opposite Airport:geo:69.6609593,21.6477008
END:VEVENT
BEGIN:VEVENT
DTSTART;VALUE=DATE:20161008
DTEND;VALUE=DATE:20161012
DTSTAMP:20260419T202834
CREATED:20180708T051521Z
LAST-MODIFIED:20180708T051521Z
UID:10000010-1475884800-1476230399@sandipani.org
SUMMARY:Navratri Anushthan
DESCRIPTION:Shri Ramcharitmanas recitation by Pujya Bhaishri: 9am – 1pm; Mahabharat Katha by Pujya Swami Govind Dev Giri ji Maharaj: 3pm – 6:30pm
URL:https://sandipani.org/event/navratri-anushthan-4/
LOCATION:Sandipani Vidyaniketan\, Opposite Airport\, Porbandar\, Gujarat\, INDIA
CATEGORIES:Sandipani events
ORGANIZER;CN="Sandipani Vidyaniketan":MAILTO:contactus@sandipani.org
GEO:21.6477008;69.6609593
X-APPLE-STRUCTURED-LOCATION;VALUE=URI;X-ADDRESS=Sandipani Vidyaniketan Opposite Airport Porbandar Gujarat INDIA;X-APPLE-RADIUS=500;X-TITLE=Opposite Airport:geo:69.6609593,21.6477008
END:VEVENT
END:VCALENDAR